BEGIN:VCALENDAR
VERSION:2.0
PRODID:-//ChamberMaster//Event Calendar 2.0//EN
METHOD:PUBLISH
X-PUBLISHED-TTL:P3D
REFRESH-INTERVAL:P3D
CALSCALE:GREGORIAN
BEGIN:VEVENT
DTSTART:20260601T133000Z
DTEND:20260603T213000Z
X-MICROSOFT-CDO-ALLDAYEVENT:FALSE
SUMMARY:Student Summit
DESCRIPTION:Give your student a head start on their future! The Student Summit is a three-day program featuring business tours\, interactive workshops\, and mentorship helping high school and college students build confidence\, gain practical skills\, and explore career possibilities. June 1 3 in Chesterfield.
X-ALT-DESC;FMTTYPE=text/html:Give your student a head start on their future! The Student Summit is a three-day program featuring business tours\, interactive workshops\, and mentorship&mdash\;helping high school and college students build confidence\, gain practical skills\, and explore career possibilities. June 1&ndash\;3 in Chesterfield.
LOCATION:Undivided Experience Center 657 Spirit Airpark West\, Suite 102 Chesterfield\, MO 63005
UID:e.2373.5147970
SEQUENCE:3
DTSTAMP:20260422T113044Z
URL:https://www.chesterfieldmochamber.com/events/details/student-summit-06-01-2026-5147970
END:VEVENT

END:VCALENDAR
