BEGIN:VCALENDAR
VERSION:2.0
PRODID:-//ChamberMaster//Event Calendar 2.0//EN
METHOD:PUBLISH
X-PUBLISHED-TTL:P3D
REFRESH-INTERVAL:P3D
CALSCALE:GREGORIAN
BEGIN:VEVENT
DTSTART:20260225T173000Z
DTEND:20260225T190000Z
X-MICROSOFT-CDO-ALLDAYEVENT:FALSE
SUMMARY:Men's Monthly Meeting
DESCRIPTION:Join us for the men's meeting at the Stackhouse.
X-ALT-DESC;FMTTYPE=text/html:Join us for the men's meeting at the Stackhouse.&nbsp\;
LOCATION:Stackhouse 13419 Olive Blvd\, Chesterfield\, MO 63017
UID:e.2373.5147927
SEQUENCE:3
DTSTAMP:20260422T202146Z
URL:https://www.chesterfieldmochamber.com/events/details/men-s-monthly-meeting-02-25-2026-5147927
END:VEVENT

END:VCALENDAR
