BEGIN:VCALENDAR
VERSION:2.0
PRODID:-//ChamberMaster//Event Calendar 2.0//EN
METHOD:PUBLISH
X-PUBLISHED-TTL:P3D
REFRESH-INTERVAL:P3D
CALSCALE:GREGORIAN
BEGIN:VEVENT
DTSTART:20260520T163000Z
DTEND:20260520T180000Z
X-MICROSOFT-CDO-ALLDAYEVENT:FALSE
SUMMARY:General Membership Meeting - May 2026
DESCRIPTION:Join us for the general membership meeting\n\nTopic TBA\n\nat the Ballwin Golf Course and Event Center\n\n\nAdditional parking in the lower parking lot of the north pointe pool and there is a sidewalk that comes directly to the event center and golf course.
X-ALT-DESC;FMTTYPE=text/html:<p style="text-align: center\;"><b>Join us for the general membership meeting</b><br />\n<span style="font-size: 24px\;"><b>Topic TBA</b></span><br />\n<b>at the Ballwin Golf Course and Event Center</b></p>\n<br />\nAdditional parking in the lower parking lot of the north pointe pool and there is a sidewalk that comes directly to the event center and golf course.
LOCATION:Ballwin Golf Course and Event Center 333 Holloway Road Ballwin\, MO 63011
UID:e.2373.5147923
SEQUENCE:3
DTSTAMP:20260422T131849Z
URL:https://www.chesterfieldmochamber.com/events/details/general-membership-meeting-may-2026-5147923
END:VEVENT

END:VCALENDAR
