BEGIN:VCALENDAR
VERSION:2.0
PRODID:-//ChamberMaster//Event Calendar 2.0//EN
METHOD:PUBLISH
X-PUBLISHED-TTL:P3D
REFRESH-INTERVAL:P3D
CALSCALE:GREGORIAN
BEGIN:VEVENT
DTSTART:20231130T133000Z
DTEND:20231130T150000Z
X-MICROSOFT-CDO-ALLDAYEVENT:FALSE
SUMMARY:Chamber Understanding Community Operations (CUCO) Committee
DESCRIPTION:Join us for our monthly CUCO meeting. Reflections of the only chief of police for the City of Chesterfield\, Chief Ray Johnson.
X-ALT-DESC;FMTTYPE=text/html:Join us for our monthly CUCO&nbsp\;meeting. Reflections of the only chief of police for the City of Chesterfield\, Chief Ray Johnson.
LOCATION:City of Chesterfield 690 Chesterfield Parkway West Chesterfield\, MO 63017
UID:e.2373.5147330
SEQUENCE:3
DTSTAMP:20260424T154509Z
URL:https://www.chesterfieldmochamber.com/events/details/chamber-understanding-community-operations-cuco-committee-5147330
END:VEVENT

END:VCALENDAR
