BEGIN:VCALENDAR
VERSION:2.0
PRODID:-//ChamberMaster//Event Calendar 2.0//EN
METHOD:PUBLISH
X-PUBLISHED-TTL:P3D
REFRESH-INTERVAL:P3D
CALSCALE:GREGORIAN
BEGIN:VEVENT
DTSTART:20260115T173000Z
DTEND:20260115T190000Z
X-MICROSOFT-CDO-ALLDAYEVENT:FALSE
SUMMARY:Chamber Member Orientation
DESCRIPTION:Join us for our New Members Orientation and learn more about your membership and how you can get involved! Lunch provided by Raising Cane's\, our New Member sponsor! Please note if you have any dietary restrictions.
X-ALT-DESC;FMTTYPE=text/html:Join us for our New Members Orientation and learn more about your membership and how you can get involved! Lunch provided by Raising Cane&#39\;s\, our New Member sponsor! Please note if you have any dietary restrictions.
LOCATION:Chamber Office 101 Chesterfield Business Parkway Chesterfield\, MO 63005
UID:e.2373.5147925
SEQUENCE:3
DTSTAMP:20260422T220909Z
URL:https://www.chesterfieldmochamber.com/events/details/chamber-member-orientation-5147925
END:VEVENT

END:VCALENDAR
