BEGIN:VCALENDAR
VERSION:2.0
PRODID:-//ChamberMaster//Event Calendar 2.0//EN
METHOD:PUBLISH
X-PUBLISHED-TTL:P3D
REFRESH-INTERVAL:P3D
CALSCALE:GREGORIAN
BEGIN:VEVENT
DTSTART:20260123T150000Z
DTEND:20260123T160000Z
X-MICROSOFT-CDO-ALLDAYEVENT:FALSE
SUMMARY:Blossom Bolt Committee Meeting
DESCRIPTION:Help us plan our Annual Blossom Bolt! It's our fun annual 5k/10k and kids fun run in Chesterfield Town Centre.
X-ALT-DESC;FMTTYPE=text/html:Help us plan our Annual Blossom Bolt! It&#39\;s our fun annual 5k/10k and kids fun run in Chesterfield Town Centre.
LOCATION:Chamber Office 101 Chesterfield Business parkway Chesterfield\, MO 63005 (zoom option available)
UID:e.2373.5147946
SEQUENCE:3
DTSTAMP:20260423T012210Z
URL:https://www.chesterfieldmochamber.com/events/details/blossom-bolt-committee-meeting-5147946
END:VEVENT

END:VCALENDAR
