BEGIN:VCALENDAR
VERSION:2.0
PRODID:-//ChamberMaster//Event Calendar 2.0//EN
METHOD:PUBLISH
X-PUBLISHED-TTL:P3D
REFRESH-INTERVAL:P3D
CALSCALE:GREGORIAN
BEGIN:VEVENT
DTSTART:20240726T000000Z
DTEND:20240726T020000Z
X-MICROSOFT-CDO-ALLDAYEVENT:FALSE
SUMMARY:Adult Only Night at Slick City
DESCRIPTION:Want to enjoy the action without stress of kids in the park? Join us for Adults Only night one Thursday per month from 7:00-9:00 p.m. The perfect date night or friends outing!\n\nAges 18+ only are allowed in the park during this time. Tickets are offered at a discounted rate of $16.99 for 90 minutes or $20.99 for 120 minutes.
X-ALT-DESC;FMTTYPE=text/html:<p style="text-align:center">Want to enjoy the action without stress of kids in the park? Join us for Adults Only night one Thursday per month from 7:00-9:00 p.m. The perfect date night or friends outing!</p>\n\n<p style="text-align:center"><span style="font-size:small">Ages 18+ only are allowed in the park during this time. Tickets are offered at a discounted rate of $16.99 for 90 minutes or $20.99 for 120 minutes.</span></p>\n
LOCATION:Slick City St. Louis 17379 Edison Ave. Chesterfield\, MO 63005
UID:e.2373.5147482
SEQUENCE:3
DTSTAMP:20260424T030624Z
URL:https://www.chesterfieldmochamber.com/events/details/adult-only-night-at-slick-city-5147482
END:VEVENT

END:VCALENDAR
